BEGIN:VCALENDAR
VERSION:2.0
PRODID:-//NCRPC - ECPv5.12.4//NONSGML v1.0//EN
CALSCALE:GREGORIAN
METHOD:PUBLISH
X-WR-CALNAME:NCRPC
X-ORIGINAL-URL:https://www.ncrpc.org
X-WR-CALDESC:Events for NCRPC
REFRESH-INTERVAL;VALUE=DURATION:PT1H
X-Robots-Tag:noindex
X-PUBLISHED-TTL:PT1H
BEGIN:VTIMEZONE
TZID:America/Chicago
BEGIN:DAYLIGHT
TZOFFSETFROM:-0600
TZOFFSETTO:-0500
TZNAME:CDT
DTSTART:20210314T080000
END:DAYLIGHT
BEGIN:STANDARD
TZOFFSETFROM:-0500
TZOFFSETTO:-0600
TZNAME:CST
DTSTART:20211107T070000
END:STANDARD
END:VTIMEZONE
BEGIN:VEVENT
DTSTART;TZID=America/Chicago:20210909T180000
DTEND;TZID=America/Chicago:20210909T200000
DTSTAMP:20260424T125506
CREATED:20210802T221102Z
LAST-MODIFIED:20210823T152840Z
UID:7233-1631210400-1631217600@www.ncrpc.org
SUMMARY:Website Development
DESCRIPTION:Need a website but not sure where to begin? This introductory course will cover different platforms and how these pair with social media channels. Participants will formulate a basic website using WordPress. \nA variety of topics will be covered based upon common themes and a survey of participants needs. Additional training options\, in addition to basic web development\, could include how to write searchable content for your website\, website structure\, optimizing pictures and more. \nAbout the Instructor:\nFrom simple sites to elaborate E-commerce sites that pair with in-store Customer Relationship Management (CRM) software\, JenRus Freelance has done it all when it comes to website development. JenRus Freelance is a marketing agency located in Courtland\, Kansas\, that focuses on providing solutions for businesses\, rural economic development\, municipalities\, Chambers of Commerce\, and non-profits. Its Remarkably Rural Consulting Solutions division specializes in providing training and technical assistance in rural communities. \n Register for this course
URL:https://www.ncrpc.org/event/website-development/
LOCATION:Online via Zoom
CATEGORIES:Developing an Online Presence,Website Development
END:VEVENT
BEGIN:VEVENT
DTSTART;TZID=America/Chicago:20210928T180000
DTEND;TZID=America/Chicago:20210928T200000
DTSTAMP:20260424T125506
CREATED:20210802T221246Z
LAST-MODIFIED:20210823T152743Z
UID:7235-1632852000-1632859200@www.ncrpc.org
SUMMARY:Online Sales
DESCRIPTION:Is your business looking to add or increase online sales? JenRus Freelance has been selling online for the past 10 years and has been helping other businesses do it for just as long. \nLearn how to add an online store to an existing website through E-Commerce plugins. The course will also cover other all-in-one selling platform websites\, QR codes\, Amazon\, Ebay\, Etsy\, Google Ads\, Facebook Boosted Posts/Ads\, Geolocation\, Comment Sold\, and other Apps. \nAbout the Instructor:\nJenRus Freelance is a marketing agency located in Courtland\, Kansas that focuses on providing solutions for businesses\, rural economic development\, municipalities\, and non-profits. Its Remarkably Rural Consulting Solutions division specializes in providing training and technical assistance in rural communities. \n Register for this course
URL:https://www.ncrpc.org/event/online-sales/
LOCATION:Online via Zoom
CATEGORIES:Developing an Online Presence,Online Sales
END:VEVENT
END:VCALENDAR