BEGIN:VCALENDAR
VERSION:2.0
PRODID:-//NCRPC - ECPv5.12.4//NONSGML v1.0//EN
CALSCALE:GREGORIAN
METHOD:PUBLISH
X-WR-CALNAME:NCRPC
X-ORIGINAL-URL:https://www.ncrpc.org
X-WR-CALDESC:Events for NCRPC
REFRESH-INTERVAL;VALUE=DURATION:PT1H
X-Robots-Tag:noindex
X-PUBLISHED-TTL:PT1H
BEGIN:VTIMEZONE
TZID:America/Chicago
BEGIN:DAYLIGHT
TZOFFSETFROM:-0600
TZOFFSETTO:-0500
TZNAME:CDT
DTSTART:20220313T080000
END:DAYLIGHT
BEGIN:STANDARD
TZOFFSETFROM:-0500
TZOFFSETTO:-0600
TZNAME:CST
DTSTART:20221106T070000
END:STANDARD
END:VTIMEZONE
BEGIN:VEVENT
DTSTART;TZID=America/Chicago:20220301T180000
DTEND;TZID=America/Chicago:20220301T200000
DTSTAMP:20260424T022326
CREATED:20220131T195651Z
LAST-MODIFIED:20220131T195916Z
UID:8119-1646157600-1646164800@www.ncrpc.org
SUMMARY:Online Sales
DESCRIPTION:JenRus Freelance has been selling online for the past ten years and they have been helping other businesses do it as well for just as long. For those participants who have a WordPress basic website\, this class will go through how to set up a WooCommerce selling platform. For those participants that do not have a website\, the class will go through how to set up five items in a Facebook Shop. This class will also explain Facebook boosted posts and Facebook ads. \nCourse Delivery: \nClass will be delivered online via Zoom. \nAbout the Instructor:\nJenRus Freelance is a marketing agency located in Courtland\, Kansas that focuses on providing solutions for businesses\, rural economic development\, municipalities\, and non-profits. Its Remarkably Rural Consulting Solutions division specializes in providing training and technical assistance in rural communities. \n Register for this course\n\nAbout the Training:\nThe North Central Regional Planning Commission is hosting a series of FREE trainings through June 2022 for residents\, businesses and nonprofits located in the 12-county NCRPC service area including the following North Central Kansas counties: Clay\, Cloud\, Dickinson\, Ellsworth\, Jewell\, Lincoln\, Marshall\, Mitchell\, Ottawa\, Republic\, Saline\, and Washington. Learn more and view the full calendar of available courses.
URL:https://www.ncrpc.org/event/online-sales-2/
LOCATION:Online via Zoom
CATEGORIES:Developing an Online Presence,Online Sales
END:VEVENT
BEGIN:VEVENT
DTSTART;TZID=America/Chicago:20220308T180000
DTEND;TZID=America/Chicago:20220308T200000
DTSTAMP:20260424T022326
CREATED:20220131T200522Z
LAST-MODIFIED:20220131T205333Z
UID:8124-1646762400-1646769600@www.ncrpc.org
SUMMARY:Social Media Marketing
DESCRIPTION:Are you wondering how to reach the Insta savvy generation? Or maybe wondering how to get the most out of your Facebook page? Then join us for the Social Media Marketing class and learn more about engaging your current and future clients on social media. A large majority of our clients come to us because of our success with social media marketing. Most businesses in the twelve-county NCRPC service area and their customers utilize Facebook\, so most of our social media marketing focuses on Facebook. However\, we have also run successful campaigns on Instagram\, Twitter\, LinkedIn\, Snapchat\, Hubspot\, and more. \nCourse Delivery: \nClass will be delivered online via Zoom. \nAbout the Instructor:\nJenRus Freelance is a marketing agency located in Courtland\, Kansas that focuses on providing solutions for businesses\, rural economic development\, municipalities\, and non-profits. Its Remarkably Rural Consulting Solutions division specializes in providing training and technical assistance in rural communities. \n Register for this course\n\nAbout the Training:\nThe North Central Regional Planning Commission is hosting a series of FREE trainings through June 2022 for residents\, businesses and nonprofits located in the 12-county NCRPC service area including the following North Central Kansas counties: Clay\, Cloud\, Dickinson\, Ellsworth\, Jewell\, Lincoln\, Marshall\, Mitchell\, Ottawa\, Republic\, Saline\, and Washington. Learn more and view the full calendar of available courses.
URL:https://www.ncrpc.org/event/social-media-marketing-2/
LOCATION:Online via Zoom
CATEGORIES:Developing an Online Presence,Social Media Marketing
END:VEVENT
BEGIN:VEVENT
DTSTART;TZID=America/Chicago:20220329T180000
DTEND;TZID=America/Chicago:20220329T200000
DTSTAMP:20260424T022326
CREATED:20220203T224204Z
LAST-MODIFIED:20220317T141130Z
UID:8146-1648576800-1648584000@www.ncrpc.org
SUMMARY:Canva Training
DESCRIPTION:This class is full. Please check back for future classes. If you would like to be notified if another session is added\, you may send an email to communications@ncrpc.org.\n \nInterested in learning how to create eye-catching graphics and social media posts? One of the best tools out there for novice designers on a budget is Canva. It is a free online tool that is more accessible and user friendly than designing with Adobe products. This course will take you through the basics of Canva and places to get free-to-low-cost graphics and photos. Participants will come away from the course with three to five different graphics that can be used in real life applications in the participating business or organization. \nCourse Delivery: \nClass will be delivered online via Zoom. \nAbout the Instructor:\nThis course will be instructed by Josey Hammer of JenRus Freelance. JenRus Freelance is a marketing agency located in Courtland\, Kansas that focuses on providing solutions for businesses\, rural economic development\, municipalities\, and non-profits. Its Remarkably Rural Consulting Solutions division specializes in providing training and technical assistance in rural communities. Hammer is a graduate of Kansas State University with a Bachelor’s degree in Journalism & Mass Communications and Photojournalism and she is the lead photographer and videographer for the 314 Graphic Design Division at JenRus Freelance. \n\nAbout the Training:\nThe North Central Regional Planning Commission is hosting a series of FREE trainings through June 2022 for residents\, businesses and nonprofits located in the 12-county NCRPC service area including the following North Central Kansas counties: Clay\, Cloud\, Dickinson\, Ellsworth\, Jewell\, Lincoln\, Marshall\, Mitchell\, Ottawa\, Republic\, Saline\, and Washington. Learn more and view the full calendar of available courses.
URL:https://www.ncrpc.org/event/canva-training/
LOCATION:Online via Zoom
CATEGORIES:Developing an Online Presence,Social Media Marketing
END:VEVENT
END:VCALENDAR